BEGIN:VCALENDAR
VERSION:2.0
PRODID:-//Recuerda Club - ECPv6.15.13.1//NONSGML v1.0//EN
CALSCALE:GREGORIAN
METHOD:PUBLISH
X-WR-CALNAME:Recuerda Club
X-ORIGINAL-URL:https://recuerda.club
X-WR-CALDESC:Eventos para Recuerda Club
REFRESH-INTERVAL;VALUE=DURATION:PT1H
X-Robots-Tag:noindex
X-PUBLISHED-TTL:PT1H
BEGIN:VTIMEZONE
TZID:America/Sao_Paulo
BEGIN:STANDARD
TZOFFSETFROM:-0300
TZOFFSETTO:-0300
TZNAME:-03
DTSTART:20250101T000000
END:STANDARD
END:VTIMEZONE
BEGIN:VEVENT
DTSTART;TZID=America/Sao_Paulo:20260903T190000
DTEND;TZID=America/Sao_Paulo:20260903T203000
DTSTAMP:20260420T130000
CREATED:20260112T185153Z
LAST-MODIFIED:20260112T194415Z
UID:10000034-1788462000-1788467400@recuerda.club
SUMMARY:Encuentro Semanal Recuerda Club
DESCRIPTION:nos encontramos cada semana para integrar viajes\, definir objetivos\, buscar estrategias creativas\, conversar\, divertirnos y encontrar a l@s otr@s
URL:https://recuerda.club/event/encuentro-semanal-recuerda-club/2026-09-03/
LOCATION:https://recuerda.club/event/encuentro-semanal-recuerda-club/2026-09-03/
END:VEVENT
BEGIN:VEVENT
DTSTART;TZID=America/Sao_Paulo:20260910T190000
DTEND;TZID=America/Sao_Paulo:20260910T203000
DTSTAMP:20260420T130000
CREATED:20260112T185153Z
LAST-MODIFIED:20260112T194415Z
UID:10000035-1789066800-1789072200@recuerda.club
SUMMARY:Encuentro Semanal Recuerda Club
DESCRIPTION:nos encontramos cada semana para integrar viajes\, definir objetivos\, buscar estrategias creativas\, conversar\, divertirnos y encontrar a l@s otr@s
URL:https://recuerda.club/event/encuentro-semanal-recuerda-club/2026-09-10/
LOCATION:https://recuerda.club/event/encuentro-semanal-recuerda-club/2026-09-10/
END:VEVENT
BEGIN:VEVENT
DTSTART;TZID=America/Sao_Paulo:20260917T190000
DTEND;TZID=America/Sao_Paulo:20260917T203000
DTSTAMP:20260420T130000
CREATED:20260112T185153Z
LAST-MODIFIED:20260112T194415Z
UID:10000036-1789671600-1789677000@recuerda.club
SUMMARY:Encuentro Semanal Recuerda Club
DESCRIPTION:nos encontramos cada semana para integrar viajes\, definir objetivos\, buscar estrategias creativas\, conversar\, divertirnos y encontrar a l@s otr@s
URL:https://recuerda.club/event/encuentro-semanal-recuerda-club/2026-09-17/
LOCATION:https://recuerda.club/event/encuentro-semanal-recuerda-club/2026-09-17/
END:VEVENT
BEGIN:VEVENT
DTSTART;TZID=America/Sao_Paulo:20260924T190000
DTEND;TZID=America/Sao_Paulo:20260924T203000
DTSTAMP:20260420T130000
CREATED:20260112T185153Z
LAST-MODIFIED:20260112T194415Z
UID:10000037-1790276400-1790281800@recuerda.club
SUMMARY:Encuentro Semanal Recuerda Club
DESCRIPTION:nos encontramos cada semana para integrar viajes\, definir objetivos\, buscar estrategias creativas\, conversar\, divertirnos y encontrar a l@s otr@s
URL:https://recuerda.club/event/encuentro-semanal-recuerda-club/2026-09-24/
LOCATION:https://recuerda.club/event/encuentro-semanal-recuerda-club/2026-09-24/
END:VEVENT
END:VCALENDAR